BEGIN:VCALENDAR
PRODID:-//Google Inc//Google Calendar 70.9054//EN
VERSION:2.0
CALSCALE:GREGORIAN
METHOD:PUBLISH
X-WR-CALNAME:SFB Workshop Lichtenfels 2013
X-WR-TIMEZONE:Europe/Berlin
X-WR-CALDESC:
BEGIN:VEVENT
DTSTART:20131129T093000Z
DTEND:20131129T103000Z
DTSTAMP:20131122T150156Z
UID:05lfa8ebkhnn7aleudvhknsjt8@google.com
CREATED:20131122T145857Z
DESCRIPTION:
LAST-MODIFIED:20131122T145857Z
LOCATION:
SEQUENCE:0
STATUS:CONFIRMED
SUMMARY:Departures
TRANSP:OPAQUE
END:VEVENT
BEGIN:VEVENT
DTSTART:20131129T080000Z
DTEND:20131129T093000Z
DTSTAMP:20131122T150156Z
UID:511slohopb8ps2rp94jetg5plg@google.com
CREATED:20131122T145843Z
DESCRIPTION:
LAST-MODIFIED:20131122T145843Z
LOCATION:
SEQUENCE:0
STATUS:CONFIRMED
SUMMARY:Morning Coffee
TRANSP:OPAQUE
END:VEVENT
BEGIN:VEVENT
DTSTART:20131129T070000Z
DTEND:20131129T080000Z
DTSTAMP:20131122T150156Z
UID:n5kjbdvp2epo3r9om6dsd5b8h0@google.com
CREATED:20131122T145834Z
DESCRIPTION:
LAST-MODIFIED:20131122T145834Z
LOCATION:
SEQUENCE:0
STATUS:CONFIRMED
SUMMARY:Breakfast
TRANSP:OPAQUE
END:VEVENT
BEGIN:VEVENT
DTSTART:20131128T190000Z
DTEND:20131128T210000Z
DTSTAMP:20131122T150156Z
UID:7nanu1rdir09bg4a9m6fir1vpk@google.com
CREATED:20131122T145818Z
DESCRIPTION:
LAST-MODIFIED:20131122T145818Z
LOCATION:
SEQUENCE:0
STATUS:CONFIRMED
SUMMARY:Interest Groups / Scientific Exchange
TRANSP:OPAQUE
END:VEVENT
BEGIN:VEVENT
DTSTART:20131128T173000Z
DTEND:20131128T190000Z
DTSTAMP:20131122T150156Z
UID:ftjfqi6i8uaebmv432iqkn3oko@google.com
CREATED:20131122T145758Z
DESCRIPTION:
LAST-MODIFIED:20131122T145758Z
LOCATION:
SEQUENCE:0
STATUS:CONFIRMED
SUMMARY:Dinner
TRANSP:OPAQUE
END:VEVENT
BEGIN:VEVENT
DTSTART:20131128T154500Z
DTEND:20131128T173000Z
DTSTAMP:20131122T150156Z
UID:ubl4m84ep3sh6mn95bfjui6184@google.com
CREATED:20131122T145727Z
DESCRIPTION:Matteo Petrera\nIntegrability of discrete variational systems (
 45 min)\n\nAlexander Bobenko\nLinear pluri-Lagrangian systems: discrete plu
 riharmonic functions\n(45 min)
LAST-MODIFIED:20131122T145750Z
LOCATION:
SEQUENCE:1
STATUS:CONFIRMED
SUMMARY:Pluri Lagrangian B04 (cont)
TRANSP:OPAQUE
END:VEVENT
BEGIN:VEVENT
DTSTART:20131128T151500Z
DTEND:20131128T154500Z
DTSTAMP:20131122T150156Z
UID:l4v4boc8dc7jc65bbpdf5hs8f0@google.com
CREATED:20131122T145656Z
DESCRIPTION:
LAST-MODIFIED:20131122T145702Z
LOCATION:
SEQUENCE:1
STATUS:CONFIRMED
SUMMARY:Coffee Break
TRANSP:OPAQUE
END:VEVENT
BEGIN:VEVENT
DTSTART:20131128T140000Z
DTEND:20131128T151500Z
DTSTAMP:20131122T150156Z
UID:24oup2ppq9s8sqb18nh8in8590@google.com
CREATED:20131122T145625Z
DESCRIPTION:Yuri Suris\nBasics of discrete and continuous pluri-Lagrangian 
 systems (60 min)
LAST-MODIFIED:20131122T145645Z
LOCATION:
SEQUENCE:0
STATUS:CONFIRMED
SUMMARY:Pluri Lagrangian B04
TRANSP:OPAQUE
END:VEVENT
BEGIN:VEVENT
DTSTART:20131128T113000Z
DTEND:20131128T140000Z
DTSTAMP:20131122T150156Z
UID:9a1nvfb86l33n3bpkr5mcadvp0@google.com
CREATED:20131122T145606Z
DESCRIPTION:
LAST-MODIFIED:20131122T145606Z
LOCATION:
SEQUENCE:0
STATUS:CONFIRMED
SUMMARY:Lunch
TRANSP:OPAQUE
END:VEVENT
BEGIN:VEVENT
DTSTART:20131128T100000Z
DTEND:20131128T113000Z
DTSTAMP:20131122T150156Z
UID:up679pqaf23fmvik0in7fog37s@google.com
CREATED:20131122T145529Z
DESCRIPTION:Ileana Streinu (C01)\nCurrent research: Periodic Maxwell’s Theo
 rem\,\nwith applications (30 min)\n\nGünter Rote (A07)\n“Collapse” (50 min
 )
LAST-MODIFIED:20131122T145544Z
LOCATION:
SEQUENCE:0
STATUS:CONFIRMED
SUMMARY:Geometry and Combinatorics (cont)
TRANSP:OPAQUE
END:VEVENT
BEGIN:VEVENT
DTSTART:20131128T094500Z
DTEND:20131128T100000Z
DTSTAMP:20131122T150156Z
UID:equco2a39al05c8btr26qcsdag@google.com
CREATED:20131122T145502Z
DESCRIPTION:
LAST-MODIFIED:20131122T145502Z
LOCATION:
SEQUENCE:0
STATUS:CONFIRMED
SUMMARY:Coffee Break
TRANSP:OPAQUE
END:VEVENT
BEGIN:VEVENT
DTSTART:20131128T080000Z
DTEND:20131128T094500Z
DTSTAMP:20131122T150156Z
UID:30ch8njv239h4gd6rj35g8jht8@google.com
CREATED:20131122T145354Z
DESCRIPTION:Ileana Streinu (C01)\nKeep it Simple: Maxwell’s Problem: from b
 ridges to nano-mechanics\n(45 min)\n\nJean-Philippe Labbé (A03)\nCurrent re
 search: The discrepancy of odd-equal-area triangulations\nof the square (30
  min)\n\nGünter Rote (A07)\nCurrent research: Optimal triangulation of sad
 dle surfaces (25 min)
LAST-MODIFIED:20131122T145419Z
LOCATION:
SEQUENCE:0
STATUS:CONFIRMED
SUMMARY:Geometry and Combinatorics
TRANSP:OPAQUE
END:VEVENT
BEGIN:VEVENT
DTSTART:20131128T070000Z
DTEND:20131128T080000Z
DTSTAMP:20131122T150156Z
UID:opi3ccd22qa9938grsovumjfe4@google.com
CREATED:20131122T145338Z
DESCRIPTION:
LAST-MODIFIED:20131122T145338Z
LOCATION:
SEQUENCE:0
STATUS:CONFIRMED
SUMMARY:Breakfast
TRANSP:OPAQUE
END:VEVENT
BEGIN:VEVENT
DTSTART:20131127T190000Z
DTEND:20131127T210000Z
DTSTAMP:20131122T150156Z
UID:nu80dhsr35v8hramvgtafk00qk@google.com
CREATED:20131122T145316Z
DESCRIPTION:
LAST-MODIFIED:20131122T145316Z
LOCATION:
SEQUENCE:0
STATUS:CONFIRMED
SUMMARY:DGD General Assembly
TRANSP:OPAQUE
END:VEVENT
BEGIN:VEVENT
DTSTART:20131127T151000Z
DTEND:20131127T173000Z
DTSTAMP:20131122T150156Z
UID:h523u97cb35qvk14cjiv689m18@google.com
CREATED:20131122T145207Z
DESCRIPTION:Lara Skuppin\nPiecewise projective interpolation and discrete q
 uasiconformal\ndistortion (50 min)\n\nFelix Günther\nDiscrete complex anal
 ysis on quad graphs (40 min)\n\nUlrike Bücking\nApproximation of conformal
  maps by circle patterns
LAST-MODIFIED:20131122T145245Z
LOCATION:
SEQUENCE:1
STATUS:CONFIRMED
SUMMARY:Discrete Conformality (cont)
TRANSP:OPAQUE
END:VEVENT
BEGIN:VEVENT
DTSTART:20131127T173000Z
DTEND:20131127T190000Z
DTSTAMP:20131122T150156Z
UID:cfhc73jkfio6jkv1eidibe3mj0@google.com
CREATED:20131122T145238Z
DESCRIPTION:
LAST-MODIFIED:20131122T145238Z
LOCATION:
SEQUENCE:0
STATUS:CONFIRMED
SUMMARY:Dinner
TRANSP:OPAQUE
END:VEVENT
BEGIN:VEVENT
DTSTART:20131127T144000Z
DTEND:20131127T151000Z
DTSTAMP:20131122T150156Z
UID:okbad8hbim8odj9nd3jje2geog@google.com
CREATED:20131122T145128Z
DESCRIPTION:
LAST-MODIFIED:20131122T145137Z
LOCATION:
SEQUENCE:1
STATUS:CONFIRMED
SUMMARY:Coffee Break
TRANSP:OPAQUE
END:VEVENT
BEGIN:VEVENT
DTSTART:20131127T140000Z
DTEND:20131127T144000Z
DTSTAMP:20131122T150156Z
UID:l5dhqgsm5ohi525lsfvtape3gc@google.com
CREATED:20131122T145030Z
DESCRIPTION:Boris Springborn\nOpen question: The dimer model and hyperbolic
  geometry
LAST-MODIFIED:20131122T145116Z
LOCATION:
SEQUENCE:2
STATUS:CONFIRMED
SUMMARY:Discrete Conformality
TRANSP:OPAQUE
END:VEVENT
BEGIN:VEVENT
DTSTART:20131127T113000Z
DTEND:20131127T140000Z
DTSTAMP:20131122T150156Z
UID:6rf6qs7iqklbhue3cptjddp6oo@google.com
CREATED:20131122T145008Z
DESCRIPTION:
LAST-MODIFIED:20131122T145008Z
LOCATION:
SEQUENCE:0
STATUS:CONFIRMED
SUMMARY:Lunch
TRANSP:OPAQUE
END:VEVENT
BEGIN:VEVENT
DTSTART:20131127T101500Z
DTEND:20131127T113000Z
DTSTAMP:20131122T150156Z
UID:qvt4ij83tgr6l7eh9mmnii5pg4@google.com
CREATED:20131122T144849Z
DESCRIPTION:Fernando Jimenez (B04)\nCurrent research:\nAn elucidating examp
 le: the nonholonomic particle. (30 min)\n\nYuen Au Yeung (B08)\nCurrent res
 earch: Crystalline Order\, Surface Energy Densities and\nWulff Shapes Emerg
 ence from Atomistics (and bond-counting)
LAST-MODIFIED:20131122T144954Z
LOCATION:
SEQUENCE:1
STATUS:CONFIRMED
SUMMARY:Physics and related topics (B04 / B08)
TRANSP:OPAQUE
END:VEVENT
BEGIN:VEVENT
DTSTART:20131127T100000Z
DTEND:20131127T101500Z
DTSTAMP:20131122T150156Z
UID:62ekkeg8p2llfclk2d9is7cfis@google.com
CREATED:20131122T144825Z
DESCRIPTION:
LAST-MODIFIED:20131122T144825Z
LOCATION:
SEQUENCE:0
STATUS:CONFIRMED
SUMMARY:Coffee Break
TRANSP:OPAQUE
END:VEVENT
BEGIN:VEVENT
DTSTART:20131127T083000Z
DTEND:20131127T100000Z
DTSTAMP:20131122T150156Z
UID:hlr92mu95kgs0h4c6du1qdob14@google.com
CREATED:20131122T144741Z
DESCRIPTION:Caroline Lasser (B06)\nKeep it Simple: Quantum dynamics (45 min
 )\n\nJohannes Keller (B06)\nCurrent research: Hellmann-Feynman theory for C
 oulomb systems\n(45 min)
LAST-MODIFIED:20131122T144807Z
LOCATION:
SEQUENCE:0
STATUS:CONFIRMED
SUMMARY:Physics and related topics (B06)
TRANSP:OPAQUE
END:VEVENT
BEGIN:VEVENT
DTSTART:20131127T070000Z
DTEND:20131127T083000Z
DTSTAMP:20131122T150156Z
UID:okp2h2l223iv4jb9ccbbe633qo@google.com
CREATED:20131122T144720Z
DESCRIPTION:
LAST-MODIFIED:20131122T144720Z
LOCATION:
SEQUENCE:0
STATUS:CONFIRMED
SUMMARY:Breakfeast
TRANSP:OPAQUE
END:VEVENT
BEGIN:VEVENT
DTSTART:20131126T190000Z
DTEND:20131126T210000Z
DTSTAMP:20131122T150156Z
UID:jh36sd62fkh7i98bme9voatsgc@google.com
CREATED:20131122T144650Z
DESCRIPTION:
LAST-MODIFIED:20131122T144650Z
LOCATION:
SEQUENCE:0
STATUS:CONFIRMED
SUMMARY:Interest Groups / Scientific Exchange
TRANSP:OPAQUE
END:VEVENT
BEGIN:VEVENT
DTSTART:20131126T173000Z
DTEND:20131126T190000Z
DTSTAMP:20131122T150156Z
UID:2c1pc4i1mc9vh6n3vuap97jh1g@google.com
CREATED:20131122T144624Z
DESCRIPTION:
LAST-MODIFIED:20131122T144624Z
LOCATION:
SEQUENCE:0
STATUS:CONFIRMED
SUMMARY:Dinner
TRANSP:OPAQUE
END:VEVENT
BEGIN:VEVENT
DTSTART:20131126T153000Z
DTEND:20131126T173000Z
DTSTAMP:20131122T150156Z
UID:v42l4gjfk121i1boot6j3bb1kg@google.com
ATTENDEE;CUTYPE=INDIVIDUAL;ROLE=REQ-PARTICIPANT;PARTSTAT=ACCEPTED;CN=SFB Wo
 rkshop Lichtenfels 2013;X-NUM-GUESTS=0:mailto:8l5dnpim8kdsphto748purm3u4@gr
 oup.calendar.google.com
CREATED:20131122T144531Z
DESCRIPTION:Tim Hoffmann\nWhat we know and what we don’t know about discret
 e cmc and\nminimal nets (40 min)\n\nWolfgang Schief\nGaussian (and mean) cu
 rvature(s) for discrete asymptotic nets\n(40 min)
LAST-MODIFIED:20131122T144613Z
LOCATION:
SEQUENCE:0
STATUS:CONFIRMED
SUMMARY:CMC Surfaces (A02) cont
TRANSP:OPAQUE
END:VEVENT
BEGIN:VEVENT
DTSTART:20131126T150000Z
DTEND:20131126T153000Z
DTSTAMP:20131122T150156Z
UID:ae344tcdo0jpevmd2s8hlsf0rk@google.com
CREATED:20131122T144522Z
DESCRIPTION:
LAST-MODIFIED:20131122T144522Z
LOCATION:
SEQUENCE:0
STATUS:CONFIRMED
SUMMARY:Coffee Break
TRANSP:OPAQUE
END:VEVENT
BEGIN:VEVENT
DTSTART:20131126T140000Z
DTEND:20131126T150000Z
DTSTAMP:20131122T150156Z
UID:9aqua5fjis09nor4l00r6nq1ns@google.com
CREATED:20131122T144446Z
DESCRIPTION:Benno König\nS-conical minimal nets: a local geometric construc
 tion and their\nassociated family (40 min)\n\nStefan Sechelmann\nConstructi
 ng discrete minimal surfaces of s-conical type from\northogonal circle patt
 erns: examples (20 min)
LAST-MODIFIED:20131122T144506Z
LOCATION:
SEQUENCE:0
STATUS:CONFIRMED
SUMMARY:CMC Surfaces (A02)
TRANSP:OPAQUE
END:VEVENT
BEGIN:VEVENT
DTSTART:20131126T113000Z
DTEND:20131126T140000Z
DTSTAMP:20131122T150156Z
UID:1mb62a0nekfopg0m08u9uju38c@google.com
CREATED:20131122T144425Z
DESCRIPTION:
LAST-MODIFIED:20131122T144425Z
LOCATION:
SEQUENCE:0
STATUS:CONFIRMED
SUMMARY:Lunch
TRANSP:OPAQUE
END:VEVENT
BEGIN:VEVENT
DTSTART:20131126T080000Z
DTEND:20131126T090000Z
DTSTAMP:20131122T150156Z
UID:sk8lvsihta8fif4clt9esu8mfs@google.com
CREATED:20131122T144017Z
DESCRIPTION:Discrete differential geometry and freedom architecture (60 min
 )
LAST-MODIFIED:20131122T144413Z
LOCATION:
SEQUENCE:0
STATUS:CONFIRMED
SUMMARY:DGD and its relation to Architure
TRANSP:OPAQUE
END:VEVENT
BEGIN:VEVENT
DTSTART:20131126T093000Z
DTEND:20131126T113000Z
DTSTAMP:20131122T150156Z
UID:904n8cnd92u1eq7ssvgg6re61k@google.com
CREATED:20131122T144258Z
DESCRIPTION:Florian Käferböck\nDiscrete affine structures and low degree sp
 lines (50 min)\n\nChristian Müller\nDiscretizing holomorphic maps and mini
 mal surfaces\nwith conical nets (50 min)
LAST-MODIFIED:20131122T144343Z
LOCATION:
SEQUENCE:0
STATUS:CONFIRMED
SUMMARY:DGD and its relation to Architecture (cont)
TRANSP:OPAQUE
END:VEVENT
BEGIN:VEVENT
DTSTART:20131126T090000Z
DTEND:20131126T091500Z
DTSTAMP:20131122T150156Z
UID:19eo59be5hdk15fbiqtsoi2kao@google.com
CREATED:20131122T144227Z
DESCRIPTION:
LAST-MODIFIED:20131122T144236Z
LOCATION:
SEQUENCE:0
STATUS:CONFIRMED
SUMMARY:Coffee Break
TRANSP:OPAQUE
END:VEVENT
BEGIN:VEVENT
DTSTART:20131126T070000Z
DTEND:20131126T080000Z
DTSTAMP:20131122T150156Z
UID:9hf45epkbnfrj289q06ra48h7k@google.com
CREATED:20131122T143629Z
DESCRIPTION:
LAST-MODIFIED:20131122T143629Z
LOCATION:
SEQUENCE:0
STATUS:CONFIRMED
SUMMARY:Breakfast
TRANSP:OPAQUE
END:VEVENT
BEGIN:VEVENT
DTSTART:20131125T190000Z
DTEND:20131125T210000Z
DTSTAMP:20131122T150156Z
UID:5tepscnvfbemqf1oj6ananmseo@google.com
ATTENDEE;CUTYPE=INDIVIDUAL;ROLE=REQ-PARTICIPANT;PARTSTAT=ACCEPTED;CN=SFB Wo
 rkshop Lichtenfels 2013;X-NUM-GUESTS=0:mailto:8l5dnpim8kdsphto748purm3u4@gr
 oup.calendar.google.com
CREATED:20131122T143259Z
DESCRIPTION:
LAST-MODIFIED:20131122T143600Z
LOCATION:
SEQUENCE:0
STATUS:CONFIRMED
SUMMARY:Speed Dating
TRANSP:OPAQUE
END:VEVENT
BEGIN:VEVENT
DTSTART:20131125T173000Z
DTEND:20131125T190000Z
DTSTAMP:20131122T150156Z
UID:e82j7sb51mf2mdv36cnr7tmvn0@google.com
ATTENDEE;CUTYPE=INDIVIDUAL;ROLE=REQ-PARTICIPANT;PARTSTAT=ACCEPTED;CN=SFB Wo
 rkshop Lichtenfels 2013;X-NUM-GUESTS=0:mailto:8l5dnpim8kdsphto748purm3u4@gr
 oup.calendar.google.com
CREATED:20131122T143231Z
DESCRIPTION:
LAST-MODIFIED:20131122T143555Z
LOCATION:
SEQUENCE:0
STATUS:CONFIRMED
SUMMARY:Dinner
TRANSP:OPAQUE
END:VEVENT
BEGIN:VEVENT
DTSTART:20131125T163000Z
DTEND:20131125T173000Z
DTSTAMP:20131122T150156Z
UID:4nf1qpmeafg7d3kqit5bh27rsg@google.com
ATTENDEE;CUTYPE=INDIVIDUAL;ROLE=REQ-PARTICIPANT;PARTSTAT=ACCEPTED;CN=SFB Wo
 rkshop Lichtenfels 2013;X-NUM-GUESTS=0:mailto:8l5dnpim8kdsphto748purm3u4@gr
 oup.calendar.google.com
CREATED:20131122T143201Z
DESCRIPTION:Daniel Matthes\nAn Introduction to Optimal Transport and its La
 grangian Discretization (40 min)\n\nHorst Osberger\nNumerics for Gradient F
 lows (20 min)
LAST-MODIFIED:20131122T143550Z
LOCATION:
SEQUENCE:0
STATUS:CONFIRMED
SUMMARY:Project A10 (cont)
TRANSP:OPAQUE
END:VEVENT
BEGIN:VEVENT
DTSTART:20131125T160000Z
DTEND:20131125T163000Z
DTSTAMP:20131122T150156Z
UID:clelfdktv842o99t9bunoavnd4
ATTENDEE;CUTYPE=INDIVIDUAL;ROLE=REQ-PARTICIPANT;PARTSTAT=ACCEPTED;CN=SFB Wo
 rkshop Lichtenfels 2013;X-NUM-GUESTS=0:mailto:8l5dnpim8kdsphto748purm3u4@gr
 oup.calendar.google.com
CREATED:20131122T143124Z
DESCRIPTION:
LAST-MODIFIED:20131122T143531Z
LOCATION:
SEQUENCE:0
STATUS:CONFIRMED
SUMMARY:Coffee Break
TRANSP:OPAQUE
END:VEVENT
BEGIN:VEVENT
DTSTART:20131125T140000Z
DTEND:20131125T160000Z
DTSTAMP:20131122T150156Z
UID:s3aqn5lsn1tei2i7ldnb95otns@google.com
ATTENDEE;CUTYPE=INDIVIDUAL;ROLE=REQ-PARTICIPANT;PARTSTAT=ACCEPTED;CN=SFB Wo
 rkshop Lichtenfels 2013;X-NUM-GUESTS=0:mailto:8l5dnpim8kdsphto748purm3u4@gr
 oup.calendar.google.com
CREATED:20131122T143012Z
DESCRIPTION:Gitta Kutyniok\nKeep it Simple: What are Shearlets? (60 min)\n\
 nWang-Q Lim\nEdge analysis using highly localized shearlets Part 1:\n2D edg
 e analysis and geometric separation schemes to separate \n\n(30 min)\n\nPhi
 lipp Petersen\nEdge analysis using highly localized shearlets Part 2:\n2D a
 nd 3D Edge Classification using the shearlet transform by compactly support
 ed shearlets (30 min)
LAST-MODIFIED:20131122T143525Z
LOCATION:
SEQUENCE:0
STATUS:CONFIRMED
SUMMARY:Project A10
TRANSP:OPAQUE
END:VEVENT
BEGIN:VEVENT
DTSTART:20131125T113000Z
DTEND:20131125T140000Z
DTSTAMP:20131122T150156Z
UID:gi0io0cs8su43a16ighak6ldo0@google.com
ATTENDEE;CUTYPE=INDIVIDUAL;ROLE=REQ-PARTICIPANT;PARTSTAT=ACCEPTED;CN=SFB Wo
 rkshop Lichtenfels 2013;X-NUM-GUESTS=0:mailto:8l5dnpim8kdsphto748purm3u4@gr
 oup.calendar.google.com
CREATED:20131122T142903Z
DESCRIPTION:
LAST-MODIFIED:20131122T143519Z
LOCATION:
SEQUENCE:0
STATUS:CONFIRMED
SUMMARY:Lunch
TRANSP:OPAQUE
END:VEVENT
END:VCALENDAR